Package: EpiTxDb Version: 1.14.0 Command: /home/biocbuild/R/R-4.3.1/bin/R CMD build --keep-empty-dirs --no-resave-data EpiTxDb StartedAt: 2023-11-02 00:49:50 -0000 (Thu, 02 Nov 2023) EndedAt: 2023-11-02 00:55:08 -0000 (Thu, 02 Nov 2023) EllapsedTime: 317.4 seconds RetCode: 0 Status: OK PackageFile: EpiTxDb_1.14.0.tar.gz PackageFileSize: 909.9 KiB