Package: EpiTxDb Version: 1.14.0 Command: /home/biocbuild/R/R-4.3.1/bin/R CMD INSTALL EpiTxDb StartedAt: 2023-11-01 20:28:14 -0000 (Wed, 01 Nov 2023) EndedAt: 2023-11-01 20:29:16 -0000 (Wed, 01 Nov 2023) EllapsedTime: 61.3 seconds RetCode: 0 Status: OK