Package: EpiTxDb Version: 1.14.1 Command: /Library/Frameworks/R.framework/Resources/bin/R CMD build --keep-empty-dirs --no-resave-data EpiTxDb StartedAt: 2024-03-03 16:39:07 -0500 (Sun, 03 Mar 2024) EndedAt: 2024-03-03 16:42:25 -0500 (Sun, 03 Mar 2024) EllapsedTime: 197.8 seconds RetCode: 0 Status: OK PackageFile: EpiTxDb_1.14.1.tar.gz PackageFileSize: 768.7 KiB