Package: EpiTxDb Version: 1.14.1 Command: /Library/Frameworks/R.framework/Resources/bin/R CMD check --install=check:EpiTxDb.install-out.txt --library=/Library/Frameworks/R.framework/Resources/library --no-vignettes --timings EpiTxDb_1.14.1.tar.gz StartedAt: 2024-03-03 20:26:55 -0500 (Sun, 03 Mar 2024) EndedAt: 2024-03-03 20:33:04 -0500 (Sun, 03 Mar 2024) EllapsedTime: 368.7 seconds RetCode: 0 Status: OK CheckDir: EpiTxDb.Rcheck Warnings: 0