Package: EventPointer Version: 3.10.0 Command: /Library/Frameworks/R.framework/Resources/bin/R CMD build --keep-empty-dirs --no-resave-data EventPointer StartedAt: 2024-04-15 18:36:43 -0400 (Mon, 15 Apr 2024) EndedAt: 2024-04-15 18:39:36 -0400 (Mon, 15 Apr 2024) EllapsedTime: 172.9 seconds RetCode: 0 Status: OK PackageFile: EventPointer_3.10.0.tar.gz PackageFileSize: 1.642 MiB