Package: EventPointer Version: 3.10.0 Command: rm -rf EventPointer.buildbin-libdir && mkdir EventPointer.buildbin-libdir && F:\biocbuild\bbs-3.18-bioc\R\bin\R.exe CMD INSTALL --build --library=EventPointer.buildbin-libdir EventPointer_3.10.0.tar.gz StartedAt: 2024-04-16 06:59:34 -0400 (Tue, 16 Apr 2024) EndedAt: 2024-04-16 07:00:53 -0400 (Tue, 16 Apr 2024) EllapsedTime: 79.6 seconds RetCode: 0 Status: OK PackageFile: EventPointer_3.10.0.zip PackageFileSize: 1.326 MiB