Package: ExperimentSubset Version: 1.12.0 Command: /home/biocbuild/R/R-4.3.1/bin/R CMD check --install=check:ExperimentSubset.install-out.txt --library=/home/biocbuild/R/R-4.3.1/site-library --no-vignettes --timings ExperimentSubset_1.12.0.tar.gz StartedAt: 2023-11-02 10:25:23 -0000 (Thu, 02 Nov 2023) EndedAt: 2023-11-02 11:05:24 -0000 (Thu, 02 Nov 2023) EllapsedTime: 2400.6 seconds RetCode: None Status: TIMEOUT CheckDir: ExperimentSubset.Rcheck Warnings: NA