Package: ExperimentSubset Version: 1.12.0 Command: /home/biocbuild/R/R-4.3.1/bin/R CMD INSTALL ExperimentSubset StartedAt: 2023-11-01 20:20:14 -0000 (Wed, 01 Nov 2023) EndedAt: 2023-11-01 20:21:00 -0000 (Wed, 01 Nov 2023) EllapsedTime: 46.3 seconds RetCode: 0 Status: OK