Package: ExperimentSubset Version: 1.12.0 Command: /Library/Frameworks/R.framework/Resources/bin/R CMD build --keep-empty-dirs --no-resave-data ExperimentSubset StartedAt: 2024-03-03 16:41:35 -0500 (Sun, 03 Mar 2024) EndedAt: 2024-03-03 16:42:32 -0500 (Sun, 03 Mar 2024) EllapsedTime: 56.5 seconds RetCode: 0 Status: OK PackageFile: ExperimentSubset_1.12.0.tar.gz PackageFileSize: 307.2 KiB