Package: ExperimentSubset Version: 1.12.0 Command: rm -rf ExperimentSubset.buildbin-libdir && mkdir ExperimentSubset.buildbin-libdir && F:\biocbuild\bbs-3.18-bioc\R\bin\R.exe CMD INSTALL --build --library=ExperimentSubset.buildbin-libdir ExperimentSubset_1.12.0.tar.gz StartedAt: 2024-04-16 06:59:55 -0400 (Tue, 16 Apr 2024) EndedAt: 2024-04-16 07:00:50 -0400 (Tue, 16 Apr 2024) EllapsedTime: 54.4 seconds RetCode: 0 Status: OK PackageFile: ExperimentSubset_1.12.0.zip PackageFileSize: 708.5 KiB