Package: ExperimentSubset Version: 1.12.0 Command: chmod a+r ExperimentSubset -R && F:\biocbuild\bbs-3.18-bioc\R\bin\R.exe CMD build --keep-empty-dirs --no-resave-data ExperimentSubset StartedAt: 2024-04-15 18:24:01 -0400 (Mon, 15 Apr 2024) EndedAt: 2024-04-15 18:24:59 -0400 (Mon, 15 Apr 2024) EllapsedTime: 58.3 seconds RetCode: 0 Status: OK PackageFile: ExperimentSubset_1.12.0.tar.gz PackageFileSize: 307.6 KiB