Package: ExploreModelMatrix Version: 1.14.0 Maintainer: Charlotte Soneson MaintainerEmail: charlottesoneson at gmail.com git_url: https://git.bioconductor.org/packages/ExploreModelMatrix git_branch: RELEASE_3_18 git_last_commit: b412836 git_last_commit_date: 2023-10-24 11:20:59 -0400 (Tue, 24 Oct 2023)