Package: ExploreModelMatrix Version: 1.14.0 Command: /home/biocbuild/R/R-4.3.1/bin/R CMD build --keep-empty-dirs --no-resave-data ExploreModelMatrix StartedAt: 2023-11-02 00:59:53 -0000 (Thu, 02 Nov 2023) EndedAt: 2023-11-02 01:00:15 -0000 (Thu, 02 Nov 2023) EllapsedTime: 22.0 seconds RetCode: 0 Status: OK PackageFile: ExploreModelMatrix_1.14.0.tar.gz PackageFileSize: 2.478 MiB