Package: ExploreModelMatrix Version: 1.14.0 Command: /home/biocbuild/R/R-4.3.1/bin/R CMD check --install=check:ExploreModelMatrix.install-out.txt --library=/home/biocbuild/R/R-4.3.1/site-library --no-vignettes --timings ExploreModelMatrix_1.14.0.tar.gz StartedAt: 2023-11-02 10:25:58 -0000 (Thu, 02 Nov 2023) EndedAt: 2023-11-02 10:27:20 -0000 (Thu, 02 Nov 2023) EllapsedTime: 81.9 seconds RetCode: 0 Status: OK CheckDir: ExploreModelMatrix.Rcheck Warnings: 0