Package: ExploreModelMatrix Version: 1.14.0 Command: /Library/Frameworks/R.framework/Resources/bin/R CMD INSTALL ExploreModelMatrix StartedAt: 2024-03-03 15:24:28 -0500 (Sun, 03 Mar 2024) EndedAt: 2024-03-03 15:24:42 -0500 (Sun, 03 Mar 2024) EllapsedTime: 13.7 seconds RetCode: 0 Status: OK