Package: ExploreModelMatrix Version: 1.14.0 Command: rm -rf ExploreModelMatrix.buildbin-libdir && mkdir ExploreModelMatrix.buildbin-libdir && /Users/biocbuild/BBS/utils/build-universal.sh ExploreModelMatrix_1.14.0.tar.gz /Library/Frameworks/R.framework/Resources/bin/R ExploreModelMatrix.buildbin-libdir StartedAt: 2024-04-16 11:39:53 -0400 (Tue, 16 Apr 2024) EndedAt: 2024-04-16 11:40:25 -0400 (Tue, 16 Apr 2024) EllapsedTime: 31.8 seconds RetCode: 0 Status: OK PackageFile: ExploreModelMatrix_1.14.0.tgz PackageFileSize: 2.562 MiB