Package: ExpressionAtlas Version: 1.30.0 Command: /home/biocbuild/R/R-4.3.1/bin/R CMD check --install=check:ExpressionAtlas.install-out.txt --library=/home/biocbuild/R/R-4.3.1/site-library --no-vignettes --timings ExpressionAtlas_1.30.0.tar.gz StartedAt: 2023-11-02 10:25:58 -0000 (Thu, 02 Nov 2023) EndedAt: 2023-11-02 10:31:06 -0000 (Thu, 02 Nov 2023) EllapsedTime: 307.8 seconds RetCode: 0 Status: OK CheckDir: ExpressionAtlas.Rcheck Warnings: 0