Package: ExpressionAtlas Version: 1.30.0 Command: /Library/Frameworks/R.framework/Resources/bin/R CMD build --keep-empty-dirs --no-resave-data ExpressionAtlas StartedAt: 2024-03-03 16:41:51 -0500 (Sun, 03 Mar 2024) EndedAt: 2024-03-03 16:42:27 -0500 (Sun, 03 Mar 2024) EllapsedTime: 36.2 seconds RetCode: 0 Status: OK PackageFile: ExpressionAtlas_1.30.0.tar.gz PackageFileSize: 318.9 KiB