Package: ExpressionAtlas Version: 1.30.0 Command: rm -rf ExpressionAtlas.buildbin-libdir && mkdir ExpressionAtlas.buildbin-libdir && F:\biocbuild\bbs-3.18-bioc\R\bin\R.exe CMD INSTALL --build --library=ExpressionAtlas.buildbin-libdir ExpressionAtlas_1.30.0.tar.gz StartedAt: 2024-04-16 06:59:59 -0400 (Tue, 16 Apr 2024) EndedAt: 2024-04-16 07:00:27 -0400 (Tue, 16 Apr 2024) EllapsedTime: 28.6 seconds RetCode: 0 Status: OK PackageFile: ExpressionAtlas_1.30.0.zip PackageFileSize: 350.7 KiB