Package: ExpressionAtlas Version: 1.30.0 Command: F:\biocbuild\bbs-3.18-bioc\R\bin\R.exe CMD INSTALL ExpressionAtlas StartedAt: 2024-04-15 16:13:30 -0400 (Mon, 15 Apr 2024) EndedAt: 2024-04-15 16:13:58 -0400 (Mon, 15 Apr 2024) EllapsedTime: 27.9 seconds RetCode: 0 Status: OK