Package: FELLA Version: 1.22.0 Maintainer: Sergio Picart-Armada MaintainerEmail: sergi.picart at upc.edu git_url: https://git.bioconductor.org/packages/FELLA git_branch: RELEASE_3_18 git_last_commit: 3444f45 git_last_commit_date: 2023-10-24 11:03:30 -0400 (Tue, 24 Oct 2023)