Package: FELLA Version: 1.22.0 Command: /home/biocbuild/bbs-3.18-bioc/R/bin/R CMD check --install=check:FELLA.install-out.txt --library=/home/biocbuild/bbs-3.18-bioc/R/site-library --timings FELLA_1.22.0.tar.gz StartedAt: 2024-04-15 22:45:37 -0400 (Mon, 15 Apr 2024) EndedAt: 2024-04-15 23:25:37 -0400 (Mon, 15 Apr 2024) EllapsedTime: 2400.4 seconds RetCode: None Status: TIMEOUT CheckDir: FELLA.Rcheck Warnings: NA