Package: FISHalyseR Version: 1.36.0 Command: /home/biocbuild/R/R-4.3.1/bin/R CMD build --keep-empty-dirs --no-resave-data FISHalyseR StartedAt: 2023-11-02 01:06:05 -0000 (Thu, 02 Nov 2023) EndedAt: 2023-11-02 01:06:31 -0000 (Thu, 02 Nov 2023) EllapsedTime: 26.0 seconds RetCode: 0 Status: OK PackageFile: FISHalyseR_1.36.0.tar.gz PackageFileSize: 778.4 KiB