Package: FISHalyseR Version: 1.36.0 Command: rm -rf FISHalyseR.buildbin-libdir && mkdir FISHalyseR.buildbin-libdir && /Users/biocbuild/BBS/utils/build-universal.sh FISHalyseR_1.36.0.tar.gz /Library/Frameworks/R.framework/Resources/bin/R FISHalyseR.buildbin-libdir StartedAt: 2024-03-04 00:41:17 -0500 (Mon, 04 Mar 2024) EndedAt: 2024-03-04 00:41:26 -0500 (Mon, 04 Mar 2024) EllapsedTime: 9.0 seconds RetCode: 0 Status: OK PackageFile: FISHalyseR_1.36.0.tgz PackageFileSize: 830.6 KiB