Package: FISHalyseR Version: 1.36.0 Command: /home/biocbuild/bbs-3.18-bioc/R/bin/R CMD check --install=check:FISHalyseR.install-out.txt --library=/home/biocbuild/bbs-3.18-bioc/R/site-library --timings FISHalyseR_1.36.0.tar.gz StartedAt: 2024-04-15 22:47:43 -0400 (Mon, 15 Apr 2024) EndedAt: 2024-04-15 22:48:41 -0400 (Mon, 15 Apr 2024) EllapsedTime: 57.4 seconds RetCode: 0 Status: WARNINGS CheckDir: FISHalyseR.Rcheck Warnings: 2