Package: FISHalyseR Version: 1.36.0 Command: /home/biocbuild/bbs-3.18-bioc/R/bin/R CMD INSTALL FISHalyseR StartedAt: 2024-04-15 15:33:17 -0400 (Mon, 15 Apr 2024) EndedAt: 2024-04-15 15:33:22 -0400 (Mon, 15 Apr 2024) EllapsedTime: 4.9 seconds RetCode: 0 Status: OK