Package: FISHalyseR Version: 1.36.0 Command: chmod a+r FISHalyseR -R && F:\biocbuild\bbs-3.18-bioc\R\bin\R.exe CMD build --keep-empty-dirs --no-resave-data FISHalyseR StartedAt: 2024-04-15 18:29:04 -0400 (Mon, 15 Apr 2024) EndedAt: 2024-04-15 18:34:19 -0400 (Mon, 15 Apr 2024) EllapsedTime: 315.4 seconds RetCode: 0 Status: OK PackageFile: FISHalyseR_1.36.0.tar.gz PackageFileSize: 782.7 KiB