Package: FRASER Version: 1.14.1 Command: rm -rf FRASER.buildbin-libdir && mkdir FRASER.buildbin-libdir && /Users/biocbuild/BBS/utils/build-universal.sh FRASER_1.14.1.tar.gz /Library/Frameworks/R.framework/Resources/bin/R FRASER.buildbin-libdir StartedAt: 2024-03-04 00:41:58 -0500 (Mon, 04 Mar 2024) EndedAt: 2024-03-04 00:43:49 -0500 (Mon, 04 Mar 2024) EllapsedTime: 110.9 seconds RetCode: 0 Status: OK PackageFile: FRASER_1.14.1.tgz PackageFileSize: 2.952 MiB