Package: FRASER Version: 1.14.1 Command: /Library/Frameworks/R.framework/Resources/bin/R CMD build --keep-empty-dirs --no-resave-data FRASER StartedAt: 2024-03-03 16:46:15 -0500 (Sun, 03 Mar 2024) EndedAt: 2024-03-03 16:50:15 -0500 (Sun, 03 Mar 2024) EllapsedTime: 239.7 seconds RetCode: 0 Status: OK PackageFile: FRASER_1.14.1.tar.gz PackageFileSize: 2.085 MiB