Package: FRASER Version: 1.14.1 Command: /Library/Frameworks/R.framework/Resources/bin/R CMD check --install=check:FRASER.install-out.txt --library=/Library/Frameworks/R.framework/Resources/library --no-vignettes --timings FRASER_1.14.1.tar.gz StartedAt: 2024-03-03 20:41:36 -0500 (Sun, 03 Mar 2024) EndedAt: 2024-03-03 20:54:38 -0500 (Sun, 03 Mar 2024) EllapsedTime: 781.8 seconds RetCode: 0 Status: OK CheckDir: FRASER.Rcheck Warnings: 0