Package: FRASER Version: 1.14.1 Command: rm -rf FRASER.buildbin-libdir && mkdir FRASER.buildbin-libdir && F:\biocbuild\bbs-3.18-bioc\R\bin\R.exe CMD INSTALL --build --library=FRASER.buildbin-libdir FRASER_1.14.1.tar.gz StartedAt: 2024-04-16 07:01:56 -0400 (Tue, 16 Apr 2024) EndedAt: 2024-04-16 07:03:46 -0400 (Tue, 16 Apr 2024) EllapsedTime: 109.9 seconds RetCode: 0 Status: OK PackageFile: FRASER_1.14.1.zip PackageFileSize: 2.916 MiB