Package: FRASER Version: 1.14.1 Command: F:\biocbuild\bbs-3.18-bioc\R\bin\R.exe CMD INSTALL FRASER StartedAt: 2024-04-15 16:35:29 -0400 (Mon, 15 Apr 2024) EndedAt: 2024-04-15 16:37:21 -0400 (Mon, 15 Apr 2024) EllapsedTime: 112.2 seconds RetCode: 0 Status: OK