Package: FScanR Version: 1.12.0 Command: /home/biocbuild/R/R-4.3.1/bin/R CMD check --install=check:FScanR.install-out.txt --library=/home/biocbuild/R/R-4.3.1/site-library --no-vignettes --timings FScanR_1.12.0.tar.gz StartedAt: 2023-11-02 10:37:36 -0000 (Thu, 02 Nov 2023) EndedAt: 2023-11-02 10:37:55 -0000 (Thu, 02 Nov 2023) EllapsedTime: 19.0 seconds RetCode: 0 Status: OK CheckDir: FScanR.Rcheck Warnings: 0