Package: FScanR Version: 1.12.0 Command: /home/biocbuild/R/R-4.3.1/bin/R CMD INSTALL FScanR StartedAt: 2023-11-01 20:53:05 -0000 (Wed, 01 Nov 2023) EndedAt: 2023-11-01 20:53:07 -0000 (Wed, 01 Nov 2023) EllapsedTime: 2.0 seconds RetCode: 0 Status: OK