Package: FScanR Version: 1.12.0 Command: rm -rf FScanR.buildbin-libdir && mkdir FScanR.buildbin-libdir && /Users/biocbuild/BBS/utils/build-universal.sh FScanR_1.12.0.tar.gz /Library/Frameworks/R.framework/Resources/bin/R FScanR.buildbin-libdir StartedAt: 2024-03-04 00:42:03 -0500 (Mon, 04 Mar 2024) EndedAt: 2024-03-04 00:42:08 -0500 (Mon, 04 Mar 2024) EllapsedTime: 5.6 seconds RetCode: 0 Status: OK PackageFile: FScanR_1.12.0.tgz PackageFileSize: 937.5 KiB