Package: FScanR Version: 1.12.0 Command: /Library/Frameworks/R.framework/Resources/bin/R CMD build --keep-empty-dirs --no-resave-data FScanR StartedAt: 2024-03-03 16:46:25 -0500 (Sun, 03 Mar 2024) EndedAt: 2024-03-03 16:46:34 -0500 (Sun, 03 Mar 2024) EllapsedTime: 9.0 seconds RetCode: 0 Status: OK PackageFile: FScanR_1.12.0.tar.gz PackageFileSize: 918.2 KiB