Package: FScanR Version: 1.12.0 Command: /Library/Frameworks/R.framework/Resources/bin/R CMD check --install=check:FScanR.install-out.txt --library=/Library/Frameworks/R.framework/Resources/library --no-vignettes --timings FScanR_1.12.0.tar.gz StartedAt: 2024-03-03 20:41:58 -0500 (Sun, 03 Mar 2024) EndedAt: 2024-03-03 20:42:27 -0500 (Sun, 03 Mar 2024) EllapsedTime: 28.7 seconds RetCode: 0 Status: OK CheckDir: FScanR.Rcheck Warnings: 0