Package: FScanR Version: 1.12.0 Command: /Library/Frameworks/R.framework/Resources/bin/R CMD INSTALL FScanR StartedAt: 2024-03-03 15:37:53 -0500 (Sun, 03 Mar 2024) EndedAt: 2024-03-03 15:37:56 -0500 (Sun, 03 Mar 2024) EllapsedTime: 3.1 seconds RetCode: 0 Status: OK