Package: FScanR Version: 1.12.0 Command: /home/biocbuild/bbs-3.18-bioc/R/bin/R CMD check --install=check:FScanR.install-out.txt --library=/home/biocbuild/bbs-3.18-bioc/R/site-library --timings FScanR_1.12.0.tar.gz StartedAt: 2024-04-15 22:54:25 -0400 (Mon, 15 Apr 2024) EndedAt: 2024-04-15 22:54:43 -0400 (Mon, 15 Apr 2024) EllapsedTime: 17.7 seconds RetCode: 0 Status: OK CheckDir: FScanR.Rcheck Warnings: 0