Package: FScanR Version: 1.12.0 Command: rm -rf FScanR.buildbin-libdir && mkdir FScanR.buildbin-libdir && F:\biocbuild\bbs-3.18-bioc\R\bin\R.exe CMD INSTALL --build --library=FScanR.buildbin-libdir FScanR_1.12.0.tar.gz StartedAt: 2024-04-16 07:02:03 -0400 (Tue, 16 Apr 2024) EndedAt: 2024-04-16 07:02:25 -0400 (Tue, 16 Apr 2024) EllapsedTime: 21.4 seconds RetCode: 0 Status: OK PackageFile: FScanR_1.12.0.zip PackageFileSize: 915.9 KiB