Package: FuseSOM
Version: 1.4.0
Maintainer: Elijah Willie
MaintainerEmail: ewil3501 at uni.sydney.edu.au
git_url: https://git.bioconductor.org/packages/FuseSOM
git_branch: RELEASE_3_18
git_last_commit: ab1cc41
git_last_commit_date: 2023-10-24 11:45:14 -0400 (Tue, 24 Oct 2023)