Package: GA4GHclient Version: 1.26.0 Command: /home/biocbuild/bbs-3.18-bioc/R/bin/R CMD build --keep-empty-dirs --no-resave-data GA4GHclient StartedAt: 2024-04-15 17:09:03 -0400 (Mon, 15 Apr 2024) EndedAt: 2024-04-15 17:10:23 -0400 (Mon, 15 Apr 2024) EllapsedTime: 79.5 seconds RetCode: 0 Status: OK PackageFile: GA4GHclient_1.26.0.tar.gz PackageFileSize: 637.7 KiB