Package: GA4GHclient Version: 1.26.0 Command: /home/biocbuild/bbs-3.18-bioc/R/bin/R CMD INSTALL GA4GHclient StartedAt: 2024-04-15 15:26:54 -0400 (Mon, 15 Apr 2024) EndedAt: 2024-04-15 15:27:35 -0400 (Mon, 15 Apr 2024) EllapsedTime: 41.2 seconds RetCode: 0 Status: OK