Package: GA4GHclient Version: 1.26.0 Command: rm -rf GA4GHclient.buildbin-libdir && mkdir GA4GHclient.buildbin-libdir && F:\biocbuild\bbs-3.18-bioc\R\bin\R.exe CMD INSTALL --build --library=GA4GHclient.buildbin-libdir GA4GHclient_1.26.0.tar.gz StartedAt: 2024-04-16 07:02:09 -0400 (Tue, 16 Apr 2024) EndedAt: 2024-04-16 07:03:03 -0400 (Tue, 16 Apr 2024) EllapsedTime: 53.8 seconds RetCode: 0 Status: OK PackageFile: GA4GHclient_1.26.0.zip PackageFileSize: 758.5 KiB