git_url: https://git.bioconductor.org/packages/GAPGOM git_branch: devel git_last_commit: 0b8662d git_last_commit_date: 2023-03-30 12:41:51 -0400 (Thu, 30 Mar 2023) Package: GAPGOM Version: 1.15.1 Maintainer: Rezvan Ehsani MaintainerEmail: rezvanehsani74 at gmail.com