Package: GAPGOM Version: 1.15.1 Command: /home/biocbuild/bbs-3.18-bioc/R/bin/R CMD build --keep-empty-dirs --no-resave-data GAPGOM StartedAt: 2023-04-20 04:45:24 -0400 (Thu, 20 Apr 2023) EndedAt: 2023-04-20 04:46:07 -0400 (Thu, 20 Apr 2023) EllapsedTime: 42.4 seconds RetCode: 1 Status: ERROR PackageFile: None PackageFileSize: NA