Package: GAprediction Version: 1.28.0 Maintainer: Jon Bohlin MaintainerEmail: jon.bohlin at gmail.com git_url: https://git.bioconductor.org/packages/GAprediction git_branch: RELEASE_3_18 git_last_commit: d93600c git_last_commit_date: 2023-10-24 10:52:11 -0400 (Tue, 24 Oct 2023)