Package: GAprediction Version: 1.28.0 Command: /home/biocbuild/bbs-3.18-bioc/R/bin/R CMD build --keep-empty-dirs --no-resave-data GAprediction StartedAt: 2024-04-15 17:09:27 -0400 (Mon, 15 Apr 2024) EndedAt: 2024-04-15 17:10:04 -0400 (Mon, 15 Apr 2024) EllapsedTime: 37.1 seconds RetCode: 0 Status: OK PackageFile: GAprediction_1.28.0.tar.gz PackageFileSize: 1.806 MiB