Package: GBScleanR Version: 1.6.0 Command: rm -rf GBScleanR.buildbin-libdir && mkdir GBScleanR.buildbin-libdir && /Users/biocbuild/BBS/utils/build-universal.sh GBScleanR_1.6.0.tar.gz /Library/Frameworks/R.framework/Resources/bin/R GBScleanR.buildbin-libdir StartedAt: 2024-03-04 00:42:13 -0500 (Mon, 04 Mar 2024) EndedAt: 2024-03-04 00:43:27 -0500 (Mon, 04 Mar 2024) EllapsedTime: 73.5 seconds RetCode: 0 Status: OK PackageFile: GBScleanR_1.6.0.tgz PackageFileSize: 2.324 MiB