Package: GBScleanR Version: 1.6.0 Command: rm -rf GBScleanR.buildbin-libdir && mkdir GBScleanR.buildbin-libdir && /Users/biocbuild/BBS/utils/build-universal.sh GBScleanR_1.6.0.tar.gz /Library/Frameworks/R.framework/Resources/bin/R GBScleanR.buildbin-libdir StartedAt: 2024-04-16 11:45:20 -0400 (Tue, 16 Apr 2024) EndedAt: 2024-04-16 11:48:24 -0400 (Tue, 16 Apr 2024) EllapsedTime: 183.5 seconds RetCode: 0 Status: OK PackageFile: GBScleanR_1.6.0.tgz PackageFileSize: 2.514 MiB